BEGIN:VCALENDAR
VERSION:2.0
PRODID:-//SportsPilot + Webster Groves Baseball Softball League/
METHOD:PUBLISH
BEGIN:VEVENT
UID:34310015
DTSTAMP:20260421T210500Z
SUMMARY: Game:34310015: JSS 10u 2 Johnson VS Tornados 12u 5th SB (Tipton)
DESCRIPTION: Location: Memorial South / Memorial South (Andy High Field) 
DTSTART:20260507T230000Z
DTEND:20260508T010000Z
END:VEVENT
BEGIN:VEVENT
UID:34310017
DTSTAMP:20260421T210500Z
SUMMARY: Game:34310017: Tornados 12u 5th SB (Tipton) VS JSS 10u 2 Johnson
DESCRIPTION: Location: Memorial South / Memorial South (Andy High Field) 
DTSTART:20260604T230000Z
DTEND:20260605T010000Z
END:VEVENT
END:VCALENDAR
