BEGIN:VCALENDAR
VERSION:2.0
PRODID:-//SportsPilot + Webster Groves Baseball Softball League/
METHOD:PUBLISH
BEGIN:VEVENT
UID:34310021
DTSTAMP:20260421T210400Z
SUMMARY: Game:34310021: JSS 12u Broz VS Mustangs12u 6th7th SB (Gastman)
DESCRIPTION: Location: Memorial South / Memorial South (Andy High Field) 
DTSTART:20260430T230000Z
DTEND:20260501T010000Z
END:VEVENT
BEGIN:VEVENT
UID:34310011
DTSTAMP:20260421T210400Z
SUMMARY: Game:34310011: JSS 12u Broz VS Pink Panthers 6th (Rickard)
DESCRIPTION: Location: Memorial South / Memorial South (Andy High Field) 
DTSTART:20260512T230000Z
DTEND:20260513T010000Z
END:VEVENT
BEGIN:VEVENT
UID:34310012
DTSTAMP:20260421T210400Z
SUMMARY: Game:34310012: JSS 12u Broz VS Mustangs12u 6th7th SB (Gastman)
DESCRIPTION: Location: Memorial South / Memorial South (Andy High Field) 
DTSTART:20260519T230000Z
DTEND:20260520T010000Z
END:VEVENT
BEGIN:VEVENT
UID:34310013
DTSTAMP:20260421T210400Z
SUMMARY: Game:34310013: JSS 12u Broz VS Pink Panthers 6th (Rickard)
DESCRIPTION: Location: Memorial South / Memorial South (Andy High Field) 
DTSTART:20260602T230000Z
DTEND:20260603T010000Z
END:VEVENT
BEGIN:VEVENT
UID:34310014
DTSTAMP:20260421T210400Z
SUMMARY: Game:34310014: JSS 12u Broz VS Mustangs12u 6th7th SB (Gastman)
DESCRIPTION: Location: Memorial South / Memorial South (Andy High Field) 
DTSTART:20260616T230000Z
DTEND:20260617T010000Z
END:VEVENT
END:VCALENDAR
