BEGIN:VCALENDAR
VERSION:2.0
PRODID:-//SportsPilot + Webster Groves Baseball Softball League/
METHOD:PUBLISH
BEGIN:VEVENT
UID:34310010
DTSTAMP:20260421T210500Z
SUMMARY: Game:34310010: Mustangs12u 6th7th SB (Gastman) VS Pink Panthers 6th (Rickard)
DESCRIPTION: Location: Memorial South / Memorial South (Andy High Field) 
DTSTART:20260505T230000Z
DTEND:20260506T010000Z
END:VEVENT
BEGIN:VEVENT
UID:34310011
DTSTAMP:20260421T210500Z
SUMMARY: Game:34310011: JSS 12u Broz VS Pink Panthers 6th (Rickard)
DESCRIPTION: Location: Memorial South / Memorial South (Andy High Field) 
DTSTART:20260512T230000Z
DTEND:20260513T010000Z
END:VEVENT
BEGIN:VEVENT
UID:34310019
DTSTAMP:20260421T210500Z
SUMMARY: Game:34310019: Pink Panthers 6th (Rickard) VS Mustangs12u 6th7th SB (Gastman)
DESCRIPTION: Location: Memorial South / Memorial South (Andy High Field) 
DTSTART:20260526T230000Z
DTEND:20260527T010000Z
END:VEVENT
BEGIN:VEVENT
UID:34310007
DTSTAMP:20260421T210500Z
SUMMARY: Game:34310007: Pink Panthers 6th (Rickard) VS Tornados 12u 5th SB (Tipton)
DESCRIPTION: Location: Memorial South / Memorial South (Andy High Field) 
DTSTART:20260528T230000Z
DTEND:20260529T010000Z
END:VEVENT
BEGIN:VEVENT
UID:34310013
DTSTAMP:20260421T210500Z
SUMMARY: Game:34310013: JSS 12u Broz VS Pink Panthers 6th (Rickard)
DESCRIPTION: Location: Memorial South / Memorial South (Andy High Field) 
DTSTART:20260602T230000Z
DTEND:20260603T010000Z
END:VEVENT
BEGIN:VEVENT
UID:34310020
DTSTAMP:20260421T210500Z
SUMMARY: Game:34310020: Pink Panthers 6th (Rickard) VS Mustangs12u 6th7th SB (Gastman)
DESCRIPTION: Location: Memorial South / Memorial South (Andy High Field) 
DTSTART:20260613T150000Z
DTEND:20260613T170000Z
END:VEVENT
END:VCALENDAR
