BEGIN:VCALENDAR
VERSION:2.0
PRODID:-//SportsPilot + Webster Groves Baseball Softball League/
METHOD:PUBLISH
BEGIN:VEVENT
UID:34310003
DTSTAMP:20260421T210500Z
SUMMARY: Game:34310003: MRH 5th6thSB (Barker) VS Tornados 12u 5th SB (Tipton)
DESCRIPTION: Location: Memorial South / Memorial South (Andy High Field) 
DTSTART:20260426T210000Z
DTEND:20260426T230000Z
END:VEVENT
BEGIN:VEVENT
UID:34310001
DTSTAMP:20260421T210500Z
SUMMARY: Game:34310001: Tornados 12u 5th SB (Tipton) VS MRH 5th6thSB (Barker)
DESCRIPTION: Location: Mapl / Maplewood - Deer Creek North Field
DTSTART:20260505T230000Z
DTEND:20260506T010000Z
END:VEVENT
BEGIN:VEVENT
UID:34310002
DTSTAMP:20260421T210500Z
SUMMARY: Game:34310002: Tornados 12u 5th SB (Tipton) VS MRH 5th6thSB (Barker)
DESCRIPTION: Location: Mapl / Maplewood - Deer Creek North Field
DTSTART:20260513T230000Z
DTEND:20260514T010000Z
END:VEVENT
BEGIN:VEVENT
UID:34310005
DTSTAMP:20260421T210500Z
SUMMARY: Game:34310005: MRH 5th6thSB (Barker) VS Tornados 12u 5th SB (Tipton)
DESCRIPTION: Location: Memorial South / Memorial South (Andy High Field) 
DTSTART:20260516T170000Z
DTEND:20260516T190000Z
END:VEVENT
BEGIN:VEVENT
UID:34310006
DTSTAMP:20260421T210500Z
SUMMARY: Game:34310006: Mustangs12u 6th7th SB (Gastman) VS MRH 5th6thSB (Barker)
DESCRIPTION: Location: Mapl / Maplewood - Deer Creek North Field
DTSTART:20260521T230000Z
DTEND:20260522T010000Z
END:VEVENT
BEGIN:VEVENT
UID:34310008
DTSTAMP:20260421T210500Z
SUMMARY: Game:34310008: MRH 5th6thSB (Barker) VS Tornados 12u 5th SB (Tipton)
DESCRIPTION: Location: Memorial South / Memorial South (Andy High Field) 
DTSTART:20260530T170000Z
DTEND:20260530T190000Z
END:VEVENT
BEGIN:VEVENT
UID:34310009
DTSTAMP:20260421T210500Z
SUMMARY: Game:34310009: Tornados 12u 5th SB (Tipton) VS MRH 5th6thSB (Barker)
DESCRIPTION: Location: Memorial South / Memorial South (Andy High Field) 
DTSTART:20260607T170000Z
DTEND:20260607T190000Z
END:VEVENT
BEGIN:VEVENT
UID:34310016
DTSTAMP:20260421T210500Z
SUMMARY: Game:34310016: JSS 10u Gragiani VS MRH 5th6thSB (Barker)
DESCRIPTION: Location: Memorial South / Memorial South (Andy High Field) 
DTSTART:20260611T230000Z
DTEND:20260612T010000Z
END:VEVENT
BEGIN:VEVENT
UID:34310004
DTSTAMP:20260421T210500Z
SUMMARY: Game:34310004: MRH 5th6thSB (Barker) VS Tornados 12u 5th SB (Tipton)
DESCRIPTION: Location: Memorial South / Memorial South (Andy High Field) 
DTSTART:20260614T170000Z
DTEND:20260614T190000Z
END:VEVENT
BEGIN:VEVENT
UID:34310022
DTSTAMP:20260421T210500Z
SUMMARY: Game:34310022: MRH 5th6thSB (Barker) VS Mustangs12u 6th7th SB (Gastman)
DESCRIPTION: Location: Memorial South / Memorial South (Andy High Field) 
DTSTART:20260620T150000Z
DTEND:20260620T170000Z
END:VEVENT
BEGIN:VEVENT
UID:34310024
DTSTAMP:20260421T210500Z
SUMMARY: Game:34310024: Mustangs12u 6th7th SB (Gastman) VS MRH 5th6thSB (Barker)
DESCRIPTION: Location: Mapl / Maplewood - Deer Creek South #1 southside
DTSTART:20260623T230000Z
DTEND:20260624T010000Z
END:VEVENT
END:VCALENDAR
