BEGIN:VCALENDAR
VERSION:2.0
PRODID:-//SportsPilot + Webster Groves Baseball Softball League/
METHOD:PUBLISH
BEGIN:VEVENT
UID:34300019
DTSTAMP:20260421T210500Z
SUMMARY: Game:34300019: 7th Private Schools VS JSB 13u Clendennen
DESCRIPTION: Location: Memorial North / Memorial North (Gaines Field) 
DTSTART:20260413T230000Z
DTEND:20260414T010000Z
END:VEVENT
BEGIN:VEVENT
UID:34300020
DTSTAMP:20260421T210500Z
SUMMARY: Game:34300020: 7th Private Schools VS JSB 13u Clendennen
DESCRIPTION: Location: Memorial North / Memorial North (Gaines Field) 
DTSTART:20260420T230000Z
DTEND:20260421T010000Z
END:VEVENT
BEGIN:VEVENT
UID:34300021
DTSTAMP:20260421T210500Z
SUMMARY: Game:34300021: 7th Private Schools VS JSB 13u Clendennen
DESCRIPTION: Location: Memorial North / Memorial North (Gaines Field) 
DTSTART:20260427T230000Z
DTEND:20260428T010000Z
END:VEVENT
BEGIN:VEVENT
UID:34300022
DTSTAMP:20260421T210500Z
SUMMARY: Game:34300022: 7th Private Schools VS JSB 13u Clendennen
DESCRIPTION: Location: Memorial North / Memorial North (Gaines Field) 
DTSTART:20260504T230000Z
DTEND:20260505T010000Z
END:VEVENT
BEGIN:VEVENT
UID:34300013
DTSTAMP:20260421T210500Z
SUMMARY: Game:34300013: JSB 13u Clendennen VS Firebirds  (Morrill)
DESCRIPTION: Location: Memorial North / Memorial North (Gaines Field) 
DTSTART:20260507T230000Z
DTEND:20260508T010000Z
END:VEVENT
BEGIN:VEVENT
UID:34300023
DTSTAMP:20260421T210500Z
SUMMARY: Game:34300023: JSB 13u Clendennen VS CJA Kennard Tigers (Miller)
DESCRIPTION: Location: Memorial North / Memorial North (Gaines Field) 
DTSTART:20260511T230000Z
DTEND:20260512T010000Z
END:VEVENT
BEGIN:VEVENT
UID:34300015
DTSTAMP:20260421T210500Z
SUMMARY: Game:34300015: JSB 13u Clendennen VS CJA Kennard Tigers (Miller)
DESCRIPTION: Location: Memorial North / Memorial North (Gaines Field) 
DTSTART:20260604T230000Z
DTEND:20260605T010000Z
END:VEVENT
BEGIN:VEVENT
UID:34300016
DTSTAMP:20260421T210500Z
SUMMARY: Game:34300016: JSB 13u Clendennen VS MRH 8th (Walentik)
DESCRIPTION: Location: Mapl / Maplewood - Deer Creek North Field
DTSTART:20260625T230000Z
DTEND:20260626T010000Z
END:VEVENT
BEGIN:VEVENT
UID:34300025
DTSTAMP:20260421T210500Z
SUMMARY: Game:34300025: Firebirds  (Morrill) VS JSB 13u Clendennen
DESCRIPTION: Location: Memorial North / Memorial North (Gaines Field) 
DTSTART:20260625T230000Z
DTEND:20260626T010000Z
END:VEVENT
END:VCALENDAR
