BEGIN:VCALENDAR
VERSION:2.0
PRODID:-//SportsPilot + Webster Groves Baseball Softball League/
METHOD:PUBLISH
BEGIN:VEVENT
UID:34300017
DTSTAMP:20260421T210300Z
SUMMARY: Game:34300017: Private Schools 8th VS CJA Kennard Tigers (Miller)
DESCRIPTION: Location: Memorial North / Memorial North (Gaines Field) 
DTSTART:20260414T010000Z
DTEND:20260414T030000Z
END:VEVENT
BEGIN:VEVENT
UID:34300018
DTSTAMP:20260421T210300Z
SUMMARY: Game:34300018: Private Schools 8th VS CJA Kennard Tigers (Miller)
DESCRIPTION: Location: Memorial North / Memorial North (Gaines Field) 
DTSTART:20260428T010000Z
DTEND:20260428T030000Z
END:VEVENT
BEGIN:VEVENT
UID:34300002
DTSTAMP:20260421T210300Z
SUMMARY: Game:34300002: Firebirds  (Morrill) VS CJA Kennard Tigers (Miller)
DESCRIPTION: Location: Memorial North / Memorial North (Gaines Field) 
DTSTART:20260502T170000Z
DTEND:20260502T190000Z
END:VEVENT
BEGIN:VEVENT
UID:34300014
DTSTAMP:20260421T210300Z
SUMMARY: Game:34300014: CJA Kennard Tigers (Miller) VS MRH 8th (Walentik)
DESCRIPTION: Location: Mapl / Maplewood - Deer Creek North Field
DTSTART:20260507T230000Z
DTEND:20260508T010000Z
END:VEVENT
BEGIN:VEVENT
UID:34300023
DTSTAMP:20260421T210300Z
SUMMARY: Game:34300023: JSB 13u Clendennen VS CJA Kennard Tigers (Miller)
DESCRIPTION: Location: Memorial North / Memorial North (Gaines Field) 
DTSTART:20260511T230000Z
DTEND:20260512T010000Z
END:VEVENT
BEGIN:VEVENT
UID:34300005
DTSTAMP:20260421T210300Z
SUMMARY: Game:34300005: CJA Kennard Tigers (Miller) VS Firebirds  (Morrill)
DESCRIPTION: Location: Memorial North / Memorial North (Gaines Field) 
DTSTART:20260516T170000Z
DTEND:20260516T190000Z
END:VEVENT
BEGIN:VEVENT
UID:34300006
DTSTAMP:20260421T210300Z
SUMMARY: Game:34300006: MRH 8th (Walentik) VS CJA Kennard Tigers (Miller)
DESCRIPTION: Location: Memorial North / Memorial North (Gaines Field) 
DTSTART:20260519T230000Z
DTEND:20260520T010000Z
END:VEVENT
BEGIN:VEVENT
UID:34300008
DTSTAMP:20260421T210300Z
SUMMARY: Game:34300008: CJA Kennard Tigers (Miller) VS Firebirds  (Morrill)
DESCRIPTION: Location: Memorial North / Memorial North (Gaines Field) 
DTSTART:20260530T170000Z
DTEND:20260530T190000Z
END:VEVENT
BEGIN:VEVENT
UID:34300009
DTSTAMP:20260421T210300Z
SUMMARY: Game:34300009: MRH 8th (Walentik) VS CJA Kennard Tigers (Miller)
DESCRIPTION: Location: Memorial North / Memorial North (Gaines Field) 
DTSTART:20260602T230000Z
DTEND:20260603T010000Z
END:VEVENT
BEGIN:VEVENT
UID:34300015
DTSTAMP:20260421T210300Z
SUMMARY: Game:34300015: JSB 13u Clendennen VS CJA Kennard Tigers (Miller)
DESCRIPTION: Location: Memorial North / Memorial North (Gaines Field) 
DTSTART:20260604T230000Z
DTEND:20260605T010000Z
END:VEVENT
BEGIN:VEVENT
UID:34300011
DTSTAMP:20260421T210300Z
SUMMARY: Game:34300011: Firebirds  (Morrill) VS CJA Kennard Tigers (Miller)
DESCRIPTION: Location: Memorial North / Memorial North (Gaines Field) 
DTSTART:20260606T170000Z
DTEND:20260606T190000Z
END:VEVENT
BEGIN:VEVENT
UID:34300012
DTSTAMP:20260421T210300Z
SUMMARY: Game:34300012: MRH 8th (Walentik) VS CJA Kennard Tigers (Miller)
DESCRIPTION: Location: Memorial North / Memorial North (Gaines Field) 
DTSTART:20260609T230000Z
DTEND:20260610T010000Z
END:VEVENT
BEGIN:VEVENT
UID:34300003
DTSTAMP:20260421T210300Z
SUMMARY: Game:34300003: CJA Kennard Tigers (Miller) VS MRH 8th (Walentik)
DESCRIPTION: Location: Mapl / Maplewood - Deer Creek North Field
DTSTART:20260611T230000Z
DTEND:20260612T010000Z
END:VEVENT
END:VCALENDAR
