BEGIN:VCALENDAR
VERSION:2.0
PRODID:-//SportsPilot + Webster Groves Baseball Softball League/
METHOD:PUBLISH
BEGIN:VEVENT
UID:34290027
DTSTAMP:20260421T210500Z
SUMMARY: Game:34290027: 7th Private Schools VS JSB 12u Brown
DESCRIPTION: Location: Memorial North / Memorial North (Gaines Field) 
DTSTART:20260421T230000Z
DTEND:20260422T010000Z
END:VEVENT
END:VCALENDAR
