BEGIN:VCALENDAR
VERSION:2.0
PRODID:-//SportsPilot + Webster Groves Baseball Softball League/
METHOD:PUBLISH
BEGIN:VEVENT
UID:34290027
DTSTAMP:20260421T210400Z
SUMMARY: Game:34290027: 7th Private Schools VS JSB 12u Brown
DESCRIPTION: Location: Memorial North / Memorial North (Gaines Field) 
DTSTART:20260421T230000Z
DTEND:20260422T010000Z
END:VEVENT
BEGIN:VEVENT
UID:34290025
DTSTAMP:20260421T210400Z
SUMMARY: Game:34290025: JSB 12u Brown VS Webster Wild 7th Morrison (Brown)
DESCRIPTION: Location: Memorial North / Memorial North (Gaines Field) 
DTSTART:20260503T190000Z
DTEND:20260503T210000Z
END:VEVENT
BEGIN:VEVENT
UID:34290026
DTSTAMP:20260421T210400Z
SUMMARY: Game:34290026: Webster Wild 7th Morrison (Brown) VS JSB 12u Brown
DESCRIPTION: Location: Memorial North / Memorial North (Gaines Field) 
DTSTART:20260621T170000Z
DTEND:20260621T190000Z
END:VEVENT
END:VCALENDAR
