BEGIN:VCALENDAR
VERSION:2.0
PRODID:-//SportsPilot + Webster Groves Baseball Softball League/
METHOD:PUBLISH
BEGIN:VEVENT
UID:34290023
DTSTAMP:20260421T210500Z
SUMMARY: Game:34290023: MRH 7th 2 (Palacios) VS MRH 7th (Seeley)
DESCRIPTION: Location: Mapl / Maplewood - Deer Creek North Field
DTSTART:20260427T230000Z
DTEND:20260428T010000Z
END:VEVENT
BEGIN:VEVENT
UID:34290001
DTSTAMP:20260421T210500Z
SUMMARY: Game:34290001: SC Dragons 7th (Bettlach) VS MRH 7th (Seeley)
DESCRIPTION: Location: Mapl / Maplewood - Deer Creek North Field
DTSTART:20260504T230000Z
DTEND:20260505T010000Z
END:VEVENT
BEGIN:VEVENT
UID:34290004
DTSTAMP:20260421T210500Z
SUMMARY: Game:34290004: MRH 7th (Seeley) VS Webster Wild 7th Morrison (Brown)
DESCRIPTION: Location: Memorial North / Memorial North (Gaines Field) 
DTSTART:20260513T230000Z
DTEND:20260514T010000Z
END:VEVENT
BEGIN:VEVENT
UID:34290008
DTSTAMP:20260421T210500Z
SUMMARY: Game:34290008: MRH 7th (Seeley) VS SC Dragons 7th (Bettlach)
DESCRIPTION: Location: Memorial North / Memorial North (Gaines Field) 
DTSTART:20260516T150000Z
DTEND:20260516T170000Z
END:VEVENT
BEGIN:VEVENT
UID:34290006
DTSTAMP:20260421T210500Z
SUMMARY: Game:34290006: MRH 7th (Seeley) VS MRH 7th 2 (Palacios)
DESCRIPTION: Location: Mapl / Maplewood - Deer Creek North Field
DTSTART:20260518T230000Z
DTEND:20260519T010000Z
END:VEVENT
BEGIN:VEVENT
UID:34290013
DTSTAMP:20260421T210500Z
SUMMARY: Game:34290013: MRH 7th (Seeley) VS SC Dragons 7th (Bettlach)
DESCRIPTION: Location: Memorial North / Memorial North (Gaines Field) 
DTSTART:20260531T170000Z
DTEND:20260531T190000Z
END:VEVENT
BEGIN:VEVENT
UID:34290009
DTSTAMP:20260421T210500Z
SUMMARY: Game:34290009: Webster Wild 7th Morrison (Brown) VS MRH 7th (Seeley)
DESCRIPTION: Location: Mapl / Maplewood - Deer Creek North Field
DTSTART:20260601T230000Z
DTEND:20260602T010000Z
END:VEVENT
BEGIN:VEVENT
UID:34290016
DTSTAMP:20260421T210500Z
SUMMARY: Game:34290016: Webster Wild 7th Morrison (Brown) VS MRH 7th (Seeley)
DESCRIPTION: Location: Memorial North / Memorial North (Gaines Field) 
DTSTART:20260603T230000Z
DTEND:20260604T010000Z
END:VEVENT
BEGIN:VEVENT
UID:34290021
DTSTAMP:20260421T210500Z
SUMMARY: Game:34290021: Webster Wild 7th Morrison (Brown) VS MRH 7th (Seeley)
DESCRIPTION: Location: Memorial North / Memorial North (Gaines Field) 
DTSTART:20260613T170000Z
DTEND:20260613T190000Z
END:VEVENT
BEGIN:VEVENT
UID:34290011
DTSTAMP:20260421T210500Z
SUMMARY: Game:34290011: MRH 7th 2 (Palacios) VS MRH 7th (Seeley)
DESCRIPTION: Location: Mapl / Maplewood - Deer Creek North Field
DTSTART:20260615T230000Z
DTEND:20260616T010000Z
END:VEVENT
BEGIN:VEVENT
UID:34290020
DTSTAMP:20260421T210500Z
SUMMARY: Game:34290020: MRH 7th (Seeley) VS SC Dragons 7th (Bettlach)
DESCRIPTION: Location: Memorial North / Memorial North (Gaines Field) 
DTSTART:20260620T150000Z
DTEND:20260620T170000Z
END:VEVENT
BEGIN:VEVENT
UID:34290018
DTSTAMP:20260421T210500Z
SUMMARY: Game:34290018: MRH 7th 2 (Palacios) VS MRH 7th (Seeley)
DESCRIPTION: Location: Mapl / Maplewood - Deer Creek North Field
DTSTART:20260629T230000Z
DTEND:20260630T010000Z
END:VEVENT
END:VCALENDAR
