BEGIN:VCALENDAR
VERSION:2.0
PRODID:-//SportsPilot + Webster Groves Baseball Softball League/
METHOD:PUBLISH
BEGIN:VEVENT
UID:34290024
DTSTAMP:20260421T210300Z
SUMMARY: Game:34290024: SC Dragons 7th (Bettlach) VS Webster Wild 7th Morrison (Brown)
DESCRIPTION: Location: Memorial North / Memorial North (Gaines Field) 
DTSTART:20260426T170000Z
DTEND:20260426T190000Z
END:VEVENT
BEGIN:VEVENT
UID:34290003
DTSTAMP:20260421T210300Z
SUMMARY: Game:34290003: MRH 7th 2 (Palacios) VS SC Dragons 7th (Bettlach)
DESCRIPTION: Location: Memorial North / Memorial North (Gaines Field) 
DTSTART:20260502T150000Z
DTEND:20260502T170000Z
END:VEVENT
BEGIN:VEVENT
UID:34290001
DTSTAMP:20260421T210300Z
SUMMARY: Game:34290001: SC Dragons 7th (Bettlach) VS MRH 7th (Seeley)
DESCRIPTION: Location: Mapl / Maplewood - Deer Creek North Field
DTSTART:20260504T230000Z
DTEND:20260505T010000Z
END:VEVENT
BEGIN:VEVENT
UID:34290005
DTSTAMP:20260421T210300Z
SUMMARY: Game:34290005: Webster Wild 7th Morrison (Brown) VS SC Dragons 7th (Bettlach)
DESCRIPTION: Location: Memorial North / Memorial North (Gaines Field) 
DTSTART:20260509T150000Z
DTEND:20260509T170000Z
END:VEVENT
BEGIN:VEVENT
UID:34290008
DTSTAMP:20260421T210300Z
SUMMARY: Game:34290008: MRH 7th (Seeley) VS SC Dragons 7th (Bettlach)
DESCRIPTION: Location: Memorial North / Memorial North (Gaines Field) 
DTSTART:20260516T150000Z
DTEND:20260516T170000Z
END:VEVENT
BEGIN:VEVENT
UID:34290022
DTSTAMP:20260421T210300Z
SUMMARY: Game:34290022: SC Dragons 7th (Bettlach) VS MRH 7th 2 (Palacios)
DESCRIPTION: Location: Memorial North / Memorial North (Gaines Field) 
DTSTART:20260517T170000Z
DTEND:20260517T190000Z
END:VEVENT
BEGIN:VEVENT
UID:34290012
DTSTAMP:20260421T210300Z
SUMMARY: Game:34290012: SC Dragons 7th (Bettlach) VS Webster Wild 7th Morrison (Brown)
DESCRIPTION: Location: Memorial North / Memorial North (Gaines Field) 
DTSTART:20260527T230000Z
DTEND:20260528T010000Z
END:VEVENT
BEGIN:VEVENT
UID:34290013
DTSTAMP:20260421T210300Z
SUMMARY: Game:34290013: MRH 7th (Seeley) VS SC Dragons 7th (Bettlach)
DESCRIPTION: Location: Memorial North / Memorial North (Gaines Field) 
DTSTART:20260531T170000Z
DTEND:20260531T190000Z
END:VEVENT
BEGIN:VEVENT
UID:34290010
DTSTAMP:20260421T210300Z
SUMMARY: Game:34290010: SC Dragons 7th (Bettlach) VS MRH 7th 2 (Palacios)
DESCRIPTION: Location: Mapl / Maplewood - Deer Creek North Field
DTSTART:20260608T230000Z
DTEND:20260609T010000Z
END:VEVENT
BEGIN:VEVENT
UID:34290017
DTSTAMP:20260421T210300Z
SUMMARY: Game:34290017: SC Dragons 7th (Bettlach) VS Webster Wild 7th Morrison (Brown)
DESCRIPTION: Location: Memorial North / Memorial North (Gaines Field) 
DTSTART:20260610T230000Z
DTEND:20260611T010000Z
END:VEVENT
BEGIN:VEVENT
UID:34290020
DTSTAMP:20260421T210300Z
SUMMARY: Game:34290020: MRH 7th (Seeley) VS SC Dragons 7th (Bettlach)
DESCRIPTION: Location: Memorial North / Memorial North (Gaines Field) 
DTSTART:20260620T150000Z
DTEND:20260620T170000Z
END:VEVENT
BEGIN:VEVENT
UID:34290015
DTSTAMP:20260421T210300Z
SUMMARY: Game:34290015: SC Dragons 7th (Bettlach) VS MRH 7th 2 (Palacios)
DESCRIPTION: Location: Mapl / Maplewood - Deer Creek North Field
DTSTART:20260622T230000Z
DTEND:20260623T010000Z
END:VEVENT
END:VCALENDAR
